{"text_format":"1","workbook":"xlsx","n_sheets":30,"sheets":["Figure V 2-1","Figure V 2-2 ","Source Figure V 2-2","Figure V 2-3","Figure V 2-4","Source Figure V 2-4","Figure V 2-5","Source Figure V 2-5 ","Figure V 2-6","Source Figure V 2-6","Figure V 2-7","Source Figure V 2-7 ","Figure V2-8","F V2-8 Source","Figure V 2-9","Source Figure V 2-9","Figure V 2-10","Source Figure V 2-10","Figure V 2-E ","Source Figure V 2-E ","Figure V 2-11","Source Figure V 2-11 ","Figure V 2-12","Figure V 2-13 ","Figure V 2-14","Source Figure V 2-14","Figure V 2-15","Source Figure V 2-15  ","Figure V 2-16 ","Source Figure V 2-16 "],"not_rendered":{"charts":16,"images":1,"macros":0,"external_links":2,"defined_names":6,"comments":0,"pivot_tables":0},"unopened":[],"bounds":{"document_bytes":16777216,"sheet_cells":100000,"rows_first":2000,"rows_last":500,"rows_between":2000,"halvings":0,"cell_chars":16384,"cell_head_chars":4096},"cells_cut":0,"cells_raw":0,"read":"whole","date_system":"1900"}

{"sheet":"Figure V 2-1","index":0,"n_rows":13,"n_cols":10,"rows_kept":13,"cut":false,"hidden":false,"merged":[[12,1,12,9]]}
[null,"Figure V 2-1  : Nombre de postes offerts au recrutement externe dans la fonction publique de l’État (FPE) par voie d’accès"]
[]
[null,"Postes offerts au recrutement externe",2004,2005,2013,2014,2015,"Part \n(en %)","2015/2014 Évolution           (en %)","2015/2005 Évolution         (en %)"]
[null,"Total postes offerts sur concours",{"$f":"SUM(C5:C7)","v":40546},40470,28477,49805,36513,97.670126257222336,{"$f":"(G4-F4)/F4*100","v":-26.688083525750429},{"$f":"(G4-D4)/D4*100","v":-9.7776130467012603}]
[null,"Concours externe ",37934,38013,26610,47565,34549,{"$f":"G5*100/$G$11","v":92.416541836079602},{"$f":"(G5-F5)/F5*100","v":-27.364658887837695},-9.1126719806382024]
[null,"Concours unique",1341,1426,1360,1246,1177,{"$f":"G6*100/$G$11","v":3.1484057350738284},{"$f":"(G6-F6)/F6*100","v":-5.537720706260032},-17.461430575035063]
[null,"Troisième concours",1271,1031,507,994,787,2.1051786860689066,-20.824949698189137,-23.666343355965083]
[null,"Total postes offerts sans concours",2908,{"$f":"SUM(D9:D10)","v":2958},{"$f":"SUM(E9:E10)","v":1340},{"$f":"F9+F10","v":1499},{"$f":"SUM(G9:G10)","v":871},2.329873742777659,-41.894596397598399,-70.554428668018929]
[null,"Sans concours",2908,2878,1049,1225,566,1.5140166916327842,-53.795918367346943,-80.333564975677547]
[null,"Pacte",0,80,291,274,305,0.81585705114487483,11.313868613138686,281.25]
[null,"Total postes offerts au recrutement externe ",{"$f":"C8+C4","v":43454},{"$f":"D8+D4","v":43428},{"$f":"E8+E4","v":29817},{"$f":"F8+F4","v":51304},{"$f":"G8+G4","v":37384},100,-27.132387338219242,-13.917288385373491]
[]
[null,"Source : Enquêtes annuelles Bilan des recrutements dans la fonction publique de l'État, DGAFP - Département des études, des statistiques et des systèmes d’information."]

{"sheet":"Figure V 2-2 ","index":1,"n_rows":17,"n_cols":2,"rows_kept":17,"cut":false,"hidden":false,"merged":[[16,1,16,9]]}
[]
[null,"F V 2-2 : Évolution du nombre de postes offerts au recrutement externe aux concours de catégorie C"]
[]
[]
[]
[]
[]
[]
[]
[]
[]
[]
[]
[]
[]
[]
[null,"Source : Enquêtes annuelles Bilan des recrutements dans la fonction publique de l'État, DGAFP - Département des études, des statistiques et des systèmes d’information."]

{"sheet":"Source Figure V 2-2","index":2,"n_rows":7,"n_cols":14,"rows_kept":7,"cut":false,"hidden":false,"merged":[]}
[]
[]
[null,"Source  Figure V 2-2: évolution comparée du nombre de postes offerts aux concours de catégorie C"]
[null,null,2004,2005,2006,2007,2008,2009,2010,2011,2012,2013,2014,2015]
[null,"Postes offerts sur concours",6676,6148,2756,2537,3542,3131,3428,2303,2128,1995,3262,3325]
[null,"Postes offerts sans concours (hors Pacte)",2908,2878,194,616,1884,1114,1243,1168,1118,1049,1225,566]
[null,"Pacte",null,80,413,266,688,564,397,374,364,291,274,305]

{"sheet":"Figure V 2-3","index":3,"n_rows":15,"n_cols":10,"rows_kept":15,"cut":false,"hidden":false,"merged":[[13,1,13,11]]}
[]
[null,"Figure V 2-2 : Nombre de recrutements externes et part des recrutements sans concours dans la FPE"]
[]
[null,"Recrutements externes",2004,2005,"2013*","2014* ","2015*","Part        (en %) ","2015/2014 Évolution         (en %)","2015/2005 Évolution          (en %)"]
[null,"Total recrutements sur concours",{"$f":"SUM(C6:C8)","v":46034},44237,27385,44391,36110,97.657940285590655,-42.538720756027431,-43.688704811665851]
[null,"Concours externe ",43415,42022,25684,42288,34239,{"$f":"G6*100/$G$12","v":92.597901341410648},{"$f":"(G6-F6)/F6*100","v":-19.033768444948922},{"$f":"(G6-D6)/D6*100","v":-18.521250773404407}]
[null,"Concours unique",1364,1433,1257,1175,1109,2.9992427520553875,-5.6170212765957448,-22.609909281228195]
[null,"Troisième concours",1255,782,444,928,762,2.0607961921246214,-17.887931034482758,-2.5575447570332481]
[null,"Total recrutements sans concours",3100,{"$f":"SUM(D10:D11)","v":3140},{"$f":"SUM(E10:E11)","v":1079},1476,{"$f":"SUM(G10:G11)","v":866},2.3420597144093467,-41.327913279132787,-72.420382165605091]
[null,"Sans concours",3100,3068,789,1204,566,1.530722630895716,-52.990033222591357,-81.551499348109516]
[null,"Pacte",0,72,290,272,300,0.81133708351363043,10.294117647058822,316.66666666666663]
[null,"Total recrutements externes ",{"$f":"C9+C5","v":49134},47377,28464,45867,36976,100,-19.384306800095928,-21.953690609367417]
[]
[null,"Source : Enquêtes annuelles Bilan des recrutements dans la fonction publique de l'État, DGAFP - Département des études, des statistiques et des systèmes d’information."]
[null,"* Les résultats estimés corrigent l’absence de réponse pour certains recrutements, essentiellement sans concours ou Pacte."]

{"sheet":"Figure V 2-4","index":4,"n_rows":43,"n_cols":16,"rows_kept":43,"cut":false,"hidden":false,"merged":[[18,2,18,9]]}
[]
[null,null,"Figure V 2-4 : Évolution du nombre de postes offerts et des recrutements dans la FPE"]
[]
[]
[]
[]
[]
[]
[]
[]
[]
[]
[]
[]
[]
[]
[]
[]
[null,null,"Source : Enquêtes annuelles Bilan des recrutements dans la fonction publique de l'État, DGAFP - Département des études, des statistiques et des systèmes d’information."]
[]
[null,null,"proposition "]
[null,null,"Figure V 2-3 : Évolution du nombre de postes offerts et des recrutés au recrutement externe dans la FPE"]
[]
[]
[]
[]
[]
[]
[]
[]
[]
[]
[]
[]
[]
[null,null,"Postes offerts ",2003,"Part \n(en %)",2004,2005,2006,2007,2008,2009,"Part \n(en %)",2010,"Part \n(en %)",2011,"Part \n(en %)"]
[null,null,"Concours externe ",44373,87.9,37934,38013,32602,31713,30935,25560,86.8,25246,86.3,20202,85]
[null,null,"Concours unique",2346,4.5999999999999996,1341,1426,1411,1733,1886,1777,6,1846,6.3,1720,7.2]
[null,null,"3ème concours",1730,3.4,1271,1031,897,850,724,444,1.5,518,1.8,314,1.3]
[null,null,"Autres recrutements externes (3)",2058,4.0999999999999996,2908,2958,607,882,2572,1678,5.7,1640,5.6,1542,6.5]
[null,null,"Sans concours (1)",2058,4.0999999999999996,2908,2878,194,616,1884,1114,3.8,1243,4.2,1168,4.9000000000000004]
[null,null,"Pacte (sélection sans concours) (2)",0,0,0,80,413,266,688,564,1.9,397,1.4,374,1.6]
[null,null,"Total recrutement externe",50507,100,43454,43428,35517,35178,36117,29459,100,29250,100,23778,100]

{"sheet":"Source Figure V 2-4","index":5,"n_rows":5,"n_cols":17,"rows_kept":5,"cut":false,"hidden":false,"merged":[]}
[]
[null,"Source Figure V 2-4","Evolution du nombre de postes offerts au recrutement externe et des recrutés dans la FPE"]
[null,null,2001,2002,2003,2004,2005,2006,2007,2008,2009,2010,2011,2012,2013,2014,2015]
[null,"Recrutements externes",62040,67050,59292,49134,47377,39172,39867,39692,30317,29678,22338,24971,28464,45867,36976]
[null,"Postes offerts au recrutement externe ",49131,55823,50507,43454,43428,35517,35178,36117,29459,29250,23778,25003,29817,51304,37384]

{"sheet":"Figure V 2-5","index":6,"n_rows":21,"n_cols":1,"rows_kept":21,"cut":false,"hidden":false,"merged":[[16,0,16,6]]}
[]
["Figure V 2-5 :  Taux de renouvellement et flux annuel des nouveaux pensionnés et des recrutés externes dans la FPE"]
[]
[]
[]
[]
[]
[]
[]
[]
[]
[]
[]
[]
[]
[]
["Source : Enquêtes annuelles Bilan des recrutements dans la fonction publique de l'État, DGAFP - Département des études, des statistiques et des systèmes d’information ; FGE, Colter, DADS, Siasp, Insee ; Enquête SAE, Drees, traitement DGAFP - Département des études et de l’évaluation ; Service des retraites de l'État. "]
["(1) Flux annuel de pensions de droit direct entrées en paiement (titulaires FPE, hors militaires et ouvriers d'État)."]
["(2) Taux de renouvellement non disponible pour 2003."]
["Résultats estimés pour l'année 2008, 2009 et 2011 à 2014."]
["Lecture : En 2014, on dénombre 39 976 recrutés externes pour 41 344 départs à la retraite, soit un taux de renouvellement de 2,4%."]

{"sheet":"Source Figure V 2-5 ","index":7,"n_rows":21,"n_cols":9,"rows_kept":21,"cut":false,"hidden":false,"merged":[]}
[]
[null,"Source Figure V 2-5 : Flux annuel de nouveaux pensionnés et de recrutés externes "]
[]
[null,null,"Flux annuel de nouveaux pensionnés(1)","Recrutés externes ","Taux de renouvellement","effectif titulaires"]
[null,2002,53025,67050,3.7468085070714398E-2,1789523]
[null,"2003(2)",61215,59292,"-","-"]
[null,2004,57608,49134,2.7183854418578221E-2,1807470]
[null,2005,56617,47377,2.6224707027996411E-2,1806579]
[null,2006,61682,39172,2.1891312654771178E-2,1789385.6169224519]
[null,2007,64930,39867,2.3107202050257625E-2,1725306.2449226959,null,null," "]
[null,2008,65939,39692,2.4113582131492305E-2,1646043.2872875533]
[null,2009,54296,30317,1.891669963273512E-2,1602658]
[null,2010,56157,29678,1.8760295785349549E-2,1581958]
[null,2011,59081,22338,1.4E-2,1551763]
[null,2012,42905,24971,1.6E-2,1538841]
[null,2013,45966,28464,1.9E-2,1529415]
[null,2014,44148,45867,0.03,1537855]
[null,2015,41344,{"$f":"'Figure V 2-3'!G12","v":36976},2.4176958401056999E-2,"1 542 419"]
[]
[null,"Sources : FGE, Colter, DADS, SIASP,Insee; enquêtes SAE, Drees. Traitement DGAFP, département des études et des statistiques."]
[null,"Champ : emplois principaux, situés en métropole et DOM (hors Mayotte), hors COM et étranger. Hors bénéficiaires de contrats aidés. "]

{"sheet":"Figure V 2-6","index":8,"n_rows":21,"n_cols":2,"rows_kept":21,"cut":false,"hidden":false,"merged":[[18,1,18,8],[19,1,19,8],[20,1,20,8]]}
[]
[null,"Figure V 2-6 : Évolution de la sélectivité des recrutements externes dans la FPE par catégorie hiérarchique(1)"]
[]
[]
[]
[]
[]
[]
[]
[]
[]
[]
[]
[]
[]
[]
[]
[]
[null,"Source : Enquêtes annuelles Bilan des recrutements dans la fonction publique de l'État, DGAFP - Département des études, des statistiques et des systèmes d’information."]
[null,"(1) La sélectivité au recrutement externe a été calculée à partir des résultats partiels obtenus (rapport présents/admis). Pour la catégorie C, elle est calculée hors recrutement externe sans concours et hors Pacte."]
[null,"Lecture : En 2015, la sélectivité des concours de catégorie A s’établit à 6,3 soit 1 admis pour 6 présents."]

{"sheet":"Source Figure V 2-6","index":9,"n_rows":73,"n_cols":7,"rows_kept":73,"cut":false,"hidden":false,"merged":[[26,9,26,16],[42,21,42,28],[1,0,1,6],[54,1,54,4]]}
[]
["Source Figure V 2-6 : Évolution de la sélectivité (ensemble des recrutements externes) par catégorie hiérarchique de 2007 à 2015 (1)"]
[null,"cat","annee","taux"]
[null,"Catégorie A",2007,9.1999999999999993]
[null,null,2008,8.8000000000000007]
[null,null,2009,9.6]
[null,null,2010,8.9]
[null,null,2011,9.5]
[null,null,2012,8.3000000000000007]
[null,null,2013,6.9]
[null,null,2014,5.8]
[null,null,2015,6.2610284422678468]
[null,"Catégorie B",2007,14.4]
[null,null,2008,11.9]
[null,null,2009,17.7]
[null,null,2010,21.3]
[null,null,2011,18.7]
[null,null,2012,16.2]
[null,null,2013,19.899999999999999]
[null,null,2014,15.8]
[null,null,2015,14.677340503544366]
[null,"Catégorie C (1)",2007,22.9]
[null,null,2008,15.1]
[null,null,2009,16.600000000000001]
[null,null,2010,14.6]
[null,null,2011,18.600000000000001]
[null,null,2012,19.7]
[null,null,2013,23.2]
[null,null,2014,17.5]
[null,null,2015,15.448157401623986]
[]
[]
[]
[]
[]
[]
[]
[]
[]
[]
[]
[]
[]
[]
[]
[]
[]
[]
[]
[]
[]
[]
[]
[]
[null,"Comparaison 2013/2014"]
[null,2014,"Données"]
[null,"cat","poste","present ","admis","recrute "]
[null,"A",42519,214292,36863,36402,{"$f":"D58/E58","v":5.8132002278707651}]
[null,"evolution A",{"$f":"(C58-C68)/C68*100","v":80.78574769335431},{"$f":"(D58-D68)/D68*100","v":43.796972299763794}]
[null,"B",4024,62628,3970,4171,{"$f":"D60/E60","v":15.775314861460958}]
[null,null,{"$f":"(C60-C69)/C69*100","v":33.156849768365319},{"$f":"(D60-D69)/D69*100","v":4.7571256523484546}]
[null,"C",3929,57116,3270,4462,{"$f":"D62/E62","v":17.466666666666665}]
[null,null,{"$f":"(C62-C70)/C70*100","v":65.431578947368422},{"$f":"(D62-D70)/D70*100","v":17.007415905273078}]
[null,"Total général",50472,334036,44103,45035,{"$f":"D64/E64","v":7.5739972337482708}]
[]
[null,2013,"Données"]
[null,"cat","poste","present ","admis","recrute "]
[null,"A",23519,149024,21459,21141,{"$f":"D68/E68","v":6.9445920126753347}]
[null,"B",3022,59784,3010,3285,{"$f":"D69/E69","v":19.861794019933555}]
[null,"C",2375,48814,2065,3137,{"$f":"D70/E70","v":23.638740920096851}]
[null,"Total général",28916,257622,26534,27563,{"$f":"D71/E71","v":9.7091279113590119}]
[]
[null,"evolution total",{"$f":"(C64-C71)/C71*100","v":74.546963618757772},{"$f":"(D64-D71)/D71*100","v":29.661286691354},{"$f":"(E64-E71)/E71*100","v":66.213160473354932},{"$f":"(F64-F71)/F71*100","v":63.389326270725242}]

{"sheet":"Figure V 2-7","index":10,"n_rows":18,"n_cols":1,"rows_kept":18,"cut":false,"hidden":false,"merged":[[17,0,17,8]]}
["Figure V 2-7 : Evolution de la part des recrutememnts externes dans la FPE par catégorie hiérarchique (en %)"]
[]
[]
[]
[]
[]
[]
[]
[]
[]
[]
[]
[]
[]
[]
[]
["Source : Enquêtes annuelles Bilan des recrutements dans la fonction publique de l'État, DGAFP - Département des études, des statistiques et des systèmes d’information."]
["Lecture : 73,6 % des agents recrutés en 2015 occupent des emplois de catégorie A dans la FPE."]

{"sheet":"Source Figure V 2-7 ","index":11,"n_rows":10,"n_cols":5,"rows_kept":10,"cut":false,"hidden":false,"merged":[[9,0,9,8]]}
["Figure V 2-7 : Evolution de la part des recrutememnts externes dans la FPE de chaque catégorie hiérarchique (en %)"]
[]
["Année","A","B","C","Ensemble"]
[2011,66.3,15.7,18,{"$f":"SUM(B4:D4)","v":100}]
[2012,66.36498338072164,15.986544391494133,17.648472227784229,{"$f":"SUM(B5:D5)","v":100}]
[2013,74.272765598650921,11.540893760539628,14.186340640809444,{"$f":"SUM(B6:D6)","v":100}]
[2014,79.400000000000006,9.1,11.5,{"$f":"SUM(B7:D7)","v":100}]
[2015,73.569342276070969,12.389117265253137,14.041540458675897,100]
["Source : Enquêtes annuelles Bilan des recrutements dans la fonction publique de l'État, DGAFP - Département des études, des statistiques et des systèmes d’information."]
["Lecture : 73,6 % des agents recrutés en 2015 occupent des emplois de catégorie A dans la FPE."]

{"sheet":"Figure V2-8","index":12,"n_rows":19,"n_cols":1,"rows_kept":19,"cut":false,"hidden":false,"merged":[]}
["Figure V 2-8 : Évolution de la part des recrutements externes dans la FPE en catégorie A par niveau d'études requis (en %) "]
["(en %)"]
[]
[]
[]
[]
[]
[]
[]
[]
[]
[]
[]
[]
[]
[]
[]
["Source : Enquêtes annuelles Bilan des recrutements dans la fonction publique de l'État, DGAFP - Département des études, des statistiques et des systèmes d’information."]
["Lecture : En 2015, 90,3 % des candidats ont été recrutés sur des emplois de catégorie A nécessitant un niveau d'études équivalent au doctorat ou au master 2."]

{"sheet":"F V2-8 Source","index":13,"n_rows":10,"n_cols":7,"rows_kept":10,"cut":false,"hidden":false,"merged":[]}
[null,"Figure V 2-8 : Évolution de la part des recrutements externes dans la FPE en catégorie A par niveau d'études requis (en %) "]
[null,"(en %)"]
[null,"Année","Bac +2","Licence (Bac +3)","Master 1 (Bac +4)","Master 2 ou Doctorat (Bac +5 ou plus)"]
[null,2011,3.2,13.3,2.4,81.099999999999994,{"$f":"SUM(C4:F4)","v":100}]
[null,2012,3.1,12.3,2.7,81.900000000000006,{"$f":"SUM(C5:F5)","v":100}]
[null,2013,1.9582801191996595,8.7129274868738467,2.4029137694527223,86.925878624473768,{"$f":"SUM(C6:F6)","v":100}]
[null,2014,0.9,5.7,0.7,92.7,{"$f":"SUM(C7:F7)","v":100}]
[null,2015,1.6836378340624194,6.4220857993603646,1.6284968569643055,90.265779509612912,100]
[null,"Source : Enquêtes annuelles Bilan des recrutements dans la fonction publique de l'État, DGAFP - Département des études, des statistiques et des systèmes d’information."]
[null,"Lecture : En 2015, 90,3 % des candidats ont été recrutés sur des emplois de catégorie A nécessitant un niveau de diplôme équivalent au doctorat ou au master 2."]

{"sheet":"Figure V 2-9","index":14,"n_rows":18,"n_cols":1,"rows_kept":18,"cut":false,"hidden":false,"merged":[]}
["Figure V 2-9 : Niveau de diplôme des recrutés dans la FPE par catégorie hiérarchique en 2015"]
["(en %)"]
[]
[]
[]
[]
[]
[]
[]
[]
[]
[]
[]
[]
[]
[]
[]
["Source : Enquêtes annuelles Bilan des recrutements dans la fonction publique de l'État, DGAFP - Département des études, des statistiques et des systèmes d’information."]

{"sheet":"Source Figure V 2-9","index":15,"n_rows":10,"n_cols":10,"rows_kept":10,"cut":false,"hidden":false,"merged":[]}
["Figure V 2-9 : Niveau de diplôme des lauréats au concours par catégorie hiérarchique sur l’ensemble des concours externes en 2014"]
["(en %)"]
["Catégorie","Inconnu","BEPC et sans diplôme","Bac","Bac +2 ","Bac +3","Bac +4","Bac +5","Doctorat"]
["A",9.1570782634268273,1.8858214167555047,6.2493107377862733E-2,0.3051134066095651,1.3417637760541117,39.561813035326985,45.443517259125834,2.2423997353233101,{"$f":"SUM(B4:I4)","v":99.999999999999986}]
["A hors inconnu",null,2.0759145354483652,6.8792489478795724E-2,0.33586921333764974,1.4770152152800258,43.549692457105863,50.024279702168982,2.4684363871803172,100]
["B",16.524776249727132,1.2879283999126829,24.252346649203229,13.512333551626282,15.782580222658806,11.373062650076402,16.939532853088846,0.32743942370661427,100]
["B hors inconnu",null,1.5428870292887029,29.05334728033473,16.18723849372385,18.906903765690377,13.624476987447698,20.292887029288703,0.39225941422594141,100]
["C",25.269645608628661,14.522342064714946,24.576271186440678,11.979969183359014,11.61402157164869,10.342835130970725,1.4252696456086287,0.26964560862865949,100]
["C hors inconnu",null,19.432989690721651,32.886597938144327,16.030927835051546,15.541237113402062,13.840206185567011,1.9072164948453609,0.36082474226804123,99.999999999999986]
["Source : Enquêtes annuelles Bilan des recrutements dans la fonction publique de l'État, DGAFP - Département des études, des statistiques et des systèmes d’information."]

{"sheet":"Figure V 2-10","index":16,"n_rows":18,"n_cols":1,"rows_kept":18,"cut":false,"hidden":false,"merged":[]}
["Figure V 2-10 : Évolution de la part des recrutements externes dans la FPE en catégorie B par niveau d’études requis "]
["(en %)"]
[]
[]
[]
[]
[]
[]
[]
[]
[]
[]
[]
[]
[]
[]
["Source : Enquêtes annuelles Bilan des recrutements dans la fonction publique de l'État - DGAFP - Département des études, des statistiques et des systèmes d’information."]
["Lecture : En 2015, 25,4 % des candidats ont été recrutés sur des emplois de catégorie B nécessitant un niveau d'études équivalent à Bac +2."]

{"sheet":"Source Figure V 2-10","index":17,"n_rows":9,"n_cols":6,"rows_kept":9,"cut":false,"hidden":false,"merged":[]}
["Figure V 2-10 : Évolution de la part des recrutements dans la FPE en la catégorie B par niveau d’étude requis "]
["(en %)"]
[null,2011,2012,2013,2014,2015]
["Bac",60.8,65.981963927855716,73.120243531202433,68.5,74.219602706832561]
["Bac +2 ",27,30.31062124248497,23.531202435312025,28.2,25.409299279633267]
["Bac +3",12.2,3.7074148296593186,3.3485540334855401,3.26,0.37109801353416283]
[null,{"$f":"SUM(B4:B6)","v":100},{"$f":"SUM(C4:C6)","v":100},{"$f":"SUM(D4:D6)","v":100},{"$f":"SUM(E4:E6)","v":99.960000000000008},{"$f":"SUM(F4:F6)","v":99.999999999999986}]
["Source : Enquêtes annuelles Bilan des recrutements dans la fonction publique de l'État - DGAFP - Département des études, des statistiques et des systèmes d’information."]
["Lecture : En 2015, 25,4 % des candidats ont été recrutés sur des emplois de catégorie B nécessitant un niveau de diplôme équivalent à Bac+2."]

{"sheet":"Figure V 2-E ","index":18,"n_rows":16,"n_cols":2,"rows_kept":16,"cut":false,"hidden":false,"merged":[[14,1,14,8],[15,1,15,8]]}
[]
[null,"Figure V 2-1E : Évolution du nombre de concours de la fonction publique de l'État dans lesquels l’épreuve de  RAEP est introduite, par type de concours"]
[]
[]
[]
[]
[]
[]
[]
[]
[]
[]
[]
[]
[null,"Source : Enquêtes annuelles Bilan des recrutements dans la fonction publique de l'État, DGAFP - Département des études, des statistiques et des systèmes d’information."]
[null,"1) Externes : concours externe, 3ème concours, et concours unique.\nLecture figure a : En 2015, la FPE a organisé 488 concours externes. Parmi ces concours, 18 comportaient une épreuve de RAEP.                                                         Lecture figure b : Les sélections internes (concours internes, examens professionnels et concours de titularisation réservés - loi Sauvadet) avec épreuve de RAEP représentent 44,5 % de l’ensemble des sélections internes en 2015."]

{"sheet":"Source Figure V 2-E ","index":19,"n_rows":16,"n_cols":10,"rows_kept":16,"cut":false,"hidden":false,"merged":[]}
[]
[null,"Source Figure V 2-E"]
[null,"Nombre des concours dans lesquels l’épreuve de  RAEP est introduite, entre 2008 et 2015 par rapport au nombre total de concours"]
[]
[null,null,2008,2009,2010,2011,2012,2013,2014,2015]
[null,"Externe avec RAEP",8,9,7,12,12,13,19,18]
[null,"Externe total",654,580,565,498,475,407,478,488]
[]
[null,null,2008,2009,2010,2011,2012,2013,2014,2015]
[null,"Interne avec RAEP",14,11,48,62,68,205,219,193]
[null,"Interne total",544,500,498,534,489,607,708,434]
[]
[null,null,2008,2009,2010,2011,2012,2013,2014,2015]
[null,"Externe",1.2232415902140672,1.5517241379310345,1.2389380530973451,2.4096385542168677,2.5263157894736841,3.1941031941031941,3.9748953974895396,{"$f":"J6/J7*100","v":3.6885245901639343}]
[null,"Interne",2.5735294117647056,2.1999999999999997,9.6385542168674707,11.610486891385769,13.905930470347649,33.772652388797361,30.932203389830509,{"$f":"J10/J11*100","v":44.47004608294931}]
[null,"Ensemble",1.8363939899833055,1.8518518518518516,5.174035747883349,7.170542635658915,8.2987551867219906,21.499013806706113,20.067453625632378,{"$f":"(J6+J10)/(J7+J11)*100","v":22.885032537960953}]

{"sheet":"Figure V 2-11","index":20,"n_rows":15,"n_cols":2,"rows_kept":15,"cut":false,"hidden":false,"merged":[]}
[]
[null,"Figure V 2-11 : Part des femmes recrutées en catégorie A sur les postes d'enseignants et hors enseignants dans la FPE (en %)"]
[]
[]
[]
[]
[]
[]
[]
[]
[]
[]
[]
[]
[null,"Source : Enquêtes annuelles Bilan des recrutements dans la fonction publique de l'État, DGAFP - Département des études, des statistiques et des systèmes d’information."]

{"sheet":"Source Figure V 2-11 ","index":21,"n_rows":10,"n_cols":9,"rows_kept":10,"cut":false,"hidden":false,"merged":[]}
[]
[]
[null,"Source Figure V 2-12"]
[null,null,null,2010,2011,2012,2013,2014,2015]
[null,"enseignants ","H",27.574924748069623,33.407335907335906,29.5,27.5,27.4,28.4]
[null,null,"F",72.42507525193038,66.592664092664094,70.5,72.5,72.599999999999994,71.599999999999994]
[]
[null,null,null,2010,2011,2012,2013,2014,2015]
[null,"hors enseignants","H",51.746303835440322,48.730051697010566,42.2,43.7,41.8,45.3]
[null,null,"F",48.253696164559678,51.269948302989434,57.8,56.3,58.2,54.7]

{"sheet":"Figure V 2-12","index":22,"n_rows":14,"n_cols":7,"rows_kept":14,"cut":false,"hidden":false,"merged":[[13,1,13,7]]}
[]
[]
[null,"Figure V 2-12 : Part des femmes parmi l'ensemble des recrutés dans la FPE par niveau de diplôme (en %)"]
[null,"Niveau de diplôme ",2011,2012,2013,2014,2015]
[null,"Bac +5 et plus",64.400000000000006,68.2,72.2,68.599999999999994,72.7]
[null,"dont doctorat","-","-","-","-",54.5]
[null,"Bac +4",60.8,63.4,62.6,73.599999999999994,80.7]
[null,"Bac +3",54.4,63.2,62.2,56,47.6]
[null,"Bac +2",50.5,48.6,48.3,46.9,43.1]
[null,"Bac",44.5,35.4,35.799999999999997,36.299999999999997,31]
[null,"BEPC",48.1,43.8,35.9,32.1,32.299999999999997]
[null,"Sans diplôme",22.352941176470591,54.430379746835442,55.421686746987952,63.888888888888886,85.5]
[null,"Diplôme inconnu",54.5,62.5,61.6,68.400000000000006,63.8]
[null,"Source : Enquêtes annuelles Bilan des recrutements dans la fonction publique de l'État, DGAFP - Département des études, des statistiques et des systèmes d’information."]

{"sheet":"Figure V 2-13 ","index":23,"n_rows":23,"n_cols":9,"rows_kept":23,"cut":false,"hidden":false,"merged":[[20,1,20,8],[2,7,2,8],[21,1,21,8],[19,1,19,8]]}
[]
[null,"Figure V 2-13 : Nombre de recrutements externes par ministère "]
[null,null,null,null,null,null,null,"Évolution (en %)"]
[null,"Ministères",2004,2005,2013,2014,2015,"2015/2014","2015/2005"]
[null,"Affaires étrangères et Développement international",55,69,86,70,67,{"$f":"(G5-F5)/F5*100","v":-4.2857142857142856},{"$f":"(G5-D5)/D5*100","v":-2.8985507246376812}]
[null,"Agriculture, Agroalimentaire et Forêt/Enseignement privé agricole",772,656,498,487,458,{"$f":"(G6-F6)/F6*100","v":-5.9548254620123204},{"$f":"(G6-D6)/D6*100","v":-30.182926829268293}]
[null,"Ministères économiques et financiers(1) : Économie, Redressement productif et Numérique, Finances et Comptes publics",3869,2806,2720,2969,3528,18.827888177837657,25.730577334283677]
[null,"Culture et Communication",23,175,38,199,113,-43.21608040201005,-35.428571428571423]
[null,"Défense ",350,1125,159,110,253,130,-77.511111111111106]
[null,"Écologie, Développement durable et Énergie, Logement, Égalité des territoires et Ruralité(1)",1061,997,676,654,528,-19.26605504587156,-47.041123370110334]
[null,"Ministères de l'enseignement : Éducation nationale, Enseignement supérieur et Recherche(1)",35237,34083,20230,35726,27041,-24.310026311369871,-20.661326761141918]
[null,"Intérieur, Outre-mer(1)",4402,4389,1608,1796,1837,2.2828507795100221,-58.145363408521298]
[null,"Justice",2269,2045,1619,2979,2349,-21.148036253776432,14.865525672371637]
[null,"Ministères sociaux : ",{"$f":"SUM(C15:C16)","v":630},{"$f":"SUM(D15:D16)","v":540},{"$f":"SUM(E15:E16)","v":376},{"$f":"SUM(F15:F16)","v":423},{"$f":"SUM(G15:G16)","v":365},{"$f":"(G14-F14)/F14*100","v":-13.711583924349883},{"$f":"(G14-D14)/D14*100","v":-32.407407407407405}]
[null,"Affaires sociales, Droits des femmes, Ville, Jeunesse et Sports",575,447,319,356,326,-8.4269662921348321,-27.069351230425053]
[null,"Travail, Emploi, et Dialogue social ",55,93,57,67,39,-41.791044776119399,-58.064516129032263]
[null,"Services du Premier Ministre(2)",466,492,454,454,437,-3.7444933920704844,-11.178861788617885]
[null,"Total",{"$f":"SUM(C5:C14,C17)","v":49134},47377,"28 464(1)","45 867(1)","36976(1)",-19.384306800095928,-20.92386655260907]
[]
[null,"Source : Enquêtes annuelles Bilan des recrutements dans la fonction publique de l'État, DGAFP - Département des études, des statistiques et des systèmes d’information."]
[null,"Note : L'appellation des ministères renvoie à la nomenclature d'exécution de la loi de finances initiale de l'année."]
[null,"(1) Certains ministères n'ont pas pu fournir tous les résultats de concours en 2013 (Éducation nationale, Intérieur, Écologie, Économie),en 2014 (Éducation nationale et Écologie) et en 2015(Éducation nationale). Cela concerne essentiellement les recrutements sans concours et les Pacte. Les résultats présentés sont estimés. Ils  prennent en compte le nombre de postes offerts aux concours pour lesquels les résultats n'ont pas été obtenus, en faisant l'hypothèse qu'ils ont été pourvus en nombre équivalent. "]
[null,"(2) Y compris l’ENA et les IRA."]

{"sheet":"Figure V 2-14","index":24,"n_rows":18,"n_cols":2,"rows_kept":18,"cut":false,"hidden":false,"merged":[[14,1,14,9],[16,1,16,9]]}
[]
[null,"Figure V 2-14 : Profils comparés des recrutements externes dans la FPT et la FPE en 2015 (en %)"]
[]
[]
[]
[]
[]
[]
[]
[]
[]
[]
[]
[]
[]
[]
[null,"Source : Enquêtes annuelles Bilan des recrutements dans la fonction publique de l'État, DGAFP - Département des études, des statistiques et des systèmes d’information ; Association nationale des directeurs et directeurs adjoints des centres de gestion ;  Bureau du recrutement et des concours de la Ville de Paris ; Centre d'action sociale de la Ville de Paris."]
[null,"(1) Pour la FPE en catégorie C sans concours, les résultats sont estimés."]

{"sheet":"Source Figure V 2-14","index":25,"n_rows":18,"n_cols":8,"rows_kept":18,"cut":false,"hidden":false,"merged":[]}
[]
[]
[null,"Source Figure V 2-14"]
[]
[null,null,"FPT","FPE ",null,null,"FPT","FPE"]
[null,"A et  A+",{"$f":"C14/$C$18*100","v":7.6397753382690841},{"$f":"D14/$D$18*100","v":73.569342276070969},null,"Sur concours",{"$f":"SUM(C14:C16)/C18*100","v":42.060250191473067},{"$f":"SUM(D14:D16)/D18*100","v":97.657940285590655}]
[null,"B",{"$f":"C15/$C$18*100","v":15.569951493489917},{"$f":"D15/$D$18*100","v":12.389117265253137},null,"Sans concours",{"$f":"C17/C18*100","v":57.939749808526933},{"$f":"D17/D18*100","v":2.3420597144093467}]
[null,"C (sur concours) ",{"$f":"C16/$C$18*100","v":18.850523359714067},{"$f":"D16/$D$18*100","v":11.69948074426655}]
[null,"C (sans concours)(1)",{"$f":"C17/$C$18*100","v":57.939749808526933},{"$f":"D17/$D$18*100","v":2.3420597144093467}]
[null,null,{"$f":"SUM(C6:C9)","v":100},{"$f":"SUM(D6:D9)","v":100}]
[]
[null,"effectif en valeur",null,null,null,null,"Formule"]
[null,null,"FPT","FPE ",null,null,"FPT","FPE "]
[null,"A et  A+",2394,27203,null,"A et  A+",{"$f":"SUM('[1]F 3.3-1 FPT général'!$E$26:$E$27)","v":2323},27203]
[null,"B",4879,4581,null,"B",{"$f":"'[1]F 3.3-1 FPT général'!$E$28","v":4744},4581]
[null,"C (avec concours) ",5907,4326,null,"C (avec concours) ",{"$f":"'[1]F 3.3-1 FPT général'!$F$29","v":5445},4326]
[null,"C (recrutement direct)(1)",18156,866,null,"C (recrutement direct)(1)",{"$f":"'[1]F 3.3-1 FPT général'!$E$13","v":17000},866]
[null,null,{"$f":"SUM(C14:C17)","v":31336},{"$f":"SUM(D14:D17)","v":36976},null,null,{"$f":"SUM(G14:G17)","v":29512},{"$f":"SUM(H14:H17)","v":36976}]

{"sheet":"Figure V 2-15","index":26,"n_rows":36,"n_cols":12,"rows_kept":36,"cut":false,"hidden":false,"merged":[[18,1,18,6]]}
[]
[null,"Figure V 2-15 : Nombre de recrutements externes dans la FPT par catégorie hiérarchique"]
[]
[]
[]
[]
[]
[]
[]
[]
[]
[]
[]
[]
[]
[]
[]
[]
[null,"Sources : Association nationale des directeurs et directeurs adjoints des centres de gestion ; Bureau du recrutement et des concours de la Ville de Paris ; Centre d'action sociale de la Ville de Paris."]
[]
[]
[]
[]
[]
[]
[]
[]
[]
[]
[]
[]
[]
[]
[]
[]
[null,null,null,null,null,null,null,null,null,null,null," "]

{"sheet":"Source Figure V 2-15  ","index":27,"n_rows":8,"n_cols":6,"rows_kept":8,"cut":false,"hidden":false,"merged":[]}
[]
[]
["Source Figure V2-15"]
[null,2011,2012,2013,2014,2015]
["A et A+",2848,2502,2019,2656,{"$f":"'[2]F 3.3-1 FPT général'!$E$25+'[2]F 3.3-1 FPT général'!$E$26","v":2394}]
["B",5536,4644,5441,4250,{"$f":"'[2]F 3.3-1 FPT général'!$E$27","v":4879}]
["C (sur concours) ",5251,6375,4950,6592,{"$f":"'[2]F 3.3-1 FPT général'!$E$28-'[2]F 3.3-1 FPT général'!$E$23-'[2]F 3.3-1 FPT général'!$E$13","v":5907}]
["C (sans concours)",22862,18643,22235,17189,{"$f":"'[2]F 3.3-1 FPT général'!$E$13+'[2]F 3.3-1 FPT général'!$E$23","v":18156}]

{"sheet":"Figure V 2-16 ","index":28,"n_rows":31,"n_cols":10,"rows_kept":31,"cut":false,"hidden":false,"merged":[[18,1,18,8]]}
[]
[null,"Figure V 2-16 Sélectivité des recrutements externes sur concours dans la FPT par catégorie hiérarchique"]
[]
[]
[]
[]
[]
[]
[]
[]
[]
[]
[]
[]
[]
[]
[]
[]
[null,"Sources : Association nationale des directeurs et directeurs adjoints des centres de gestion ; Bureau du recrutement et des concours de la Ville de Paris ; Centre d'action sociale de la Ville de Paris."]
[null,"(1) Concours de catégorie C hors recrutements directs de la FPT (données incomplètes)."]
[]
[]
[]
[]
[]
[]
[]
[]
[]
[]
[null,null,null,null,null,null,null,null,null," "]

{"sheet":"Source Figure V 2-16 ","index":29,"n_rows":18,"n_cols":5,"rows_kept":18,"cut":false,"hidden":false,"merged":[[18,9,18,11],[18,2,18,4],[18,6,18,8],[8,1,12,1],[3,1,7,1],[13,1,17,1]]}
[]
[null,"Source Figure 2-16"]
[null,null,null,"FPT hors Ville de Paris","Ville de Paris (y compris Centre d'action sociale)"]
[null,"A",2011,6.2,13.6]
[null,null,2012,7,18.3]
[null,null,2013,3.9,8.5]
[null,null,2014,6.3,8.1]
[null,null,2015,3.6410590277777777,9.7666666666666675]
[null,"B",2011,6,9.9]
[null,null,2012,4.5999999999999996,8.3000000000000007]
[null,null,2013,6.1,16.899999999999999]
[null,null,2014,5,12.2]
[null,null,2015,5.86131544785807,11.988326848249027]
[null,"C (1)",2011,6.6,5.5]
[null,null,2012,6.7,9.9]
[null,null,2013,6.6,8.1]
[null,null,2014,7.3,7.1]
[null,null,2015,6.7715717201707184,8.218146718146718]